BEGIN:VCALENDAR
VERSION:2.0
PRODID:-//In Verteidigung der Demokratie - ECPv6.15.11//NONSGML v1.0//EN
CALSCALE:GREGORIAN
METHOD:PUBLISH
X-ORIGINAL-URL:https://verteidigungderdemokratie.de
X-WR-CALDESC:Veranstaltungen für In Verteidigung der Demokratie
REFRESH-INTERVAL;VALUE=DURATION:PT1H
X-Robots-Tag:noindex
X-PUBLISHED-TTL:PT1H
BEGIN:VTIMEZONE
TZID:Europe/Berlin
BEGIN:DAYLIGHT
TZOFFSETFROM:+0100
TZOFFSETTO:+0200
TZNAME:CEST
DTSTART:20250330T010000
END:DAYLIGHT
BEGIN:STANDARD
TZOFFSETFROM:+0200
TZOFFSETTO:+0100
TZNAME:CET
DTSTART:20251026T010000
END:STANDARD
BEGIN:DAYLIGHT
TZOFFSETFROM:+0100
TZOFFSETTO:+0200
TZNAME:CEST
DTSTART:20260329T010000
END:DAYLIGHT
BEGIN:STANDARD
TZOFFSETFROM:+0200
TZOFFSETTO:+0100
TZNAME:CET
DTSTART:20261025T010000
END:STANDARD
BEGIN:DAYLIGHT
TZOFFSETFROM:+0100
TZOFFSETTO:+0200
TZNAME:CEST
DTSTART:20270328T010000
END:DAYLIGHT
BEGIN:STANDARD
TZOFFSETFROM:+0200
TZOFFSETTO:+0100
TZNAME:CET
DTSTART:20271031T010000
END:STANDARD
END:VTIMEZONE
BEGIN:VEVENT
DTSTART;TZID=Europe/Berlin:20260204T180000
DTEND;TZID=Europe/Berlin:20260204T200000
DTSTAMP:20260422T104955
CREATED:20260126T154549Z
LAST-MODIFIED:20260126T154549Z
UID:10000039-1770228000-1770235200@verteidigungderdemokratie.de
SUMMARY:Podiumsdiskussion: Wehrhafte Demokratie? Schwachstellen in der Justiz und Schutz der Rechtsstaatlichkeit
DESCRIPTION:Im Rahmen der Ringvorlesung diskutieren: \nStaatsminister Rainer Robra\, Chef der Staatskanzlei und Minister für Kultur des Landes Sachsen-Anhalt\, Vorsitzender der Stiftung Rechtsstaat Sachsen-Anhalt e. V.; \nStefan von Raumer\, RA bei der Rechtsanwaltskanzlei von Raumer\, Präsident des Deutschen Anwaltvereins (DAV) und Mitglied des Menschenrechtsausschusses des DAV; \nUrsula Mertens\, Vorsitzende Richterin am OLG Naumburg; \nAnna-Mira Brandau\, MJur (Oxford)\, wiss. Mitarbeiterin im Justizprojekt des Verfassungsblogs \nModeration: Prof. Dr. Dirk Hanschel \nDie Ringvorlesung beschäftigt sich mit Handlungsspielräumen und Verantwortung von Jurist:innen im staatlichen Gefüge. Hierzu soll einerseits historisch die Rolle der Justiz im nationalsozialistischen Staat beleuchtet werden\, andererseits werden aktuelle Fragen zu juristischer Verantwortung im heutigen Rechtsstaat thematisiert. Es sollen folglich die Rollen von Jurist:innen im Unrechtsstaat\, aber auch aktuelle Herausforderungen für den Rechtsstaat\, auch im Hinblick auf die Landtagswahlen in Sachsen-Anhalt im nächsten Jahr\, diskutiert werden. Damit will Veranstaltung Gelegenheit zur Reflexion der Verantwortung des:r Einzelnen als künftige:r Jurist:in geben. \nDer Lehrstuhl von Prof. Dr. Dirk Hanschel veranstaltet in diesem Wintersemester zum zweiten Mal eine Ringvorlesung zum Thema „Juristische Berufsethik – Lehren aus der NS-Zeit und gegenwärtige Herausforderungen“. Der Lehrstuhl hatte – angeregt durch die Nachbesprechung eines Besuchs der Gedenkstätte Buchenwald – im Sommersemester 2024 erstmalig eine Ringvorlesung zum Thema juristische Berufsethik organisiert. Bereits dabei ging es ebenso wie in der Exkursion in die Gedenkstätte um berufsethische Fragen in der juristischen Praxis im historischen und aktuellen Kontext. Daran soll nun angeknüpft werden und neben historischer Verantwortung auch aktuelle rechtsstaatliche Herausforderungen in den Blick genommen werden. \nDie Veranstaltung wird durch den Lehrstuhl für Deutsches\, Europäisches und Internationales Öffentliches Recht und Prof. Dr. Dirk Hanschel organisiert.
URL:https://verteidigungderdemokratie.de/event/podiumsdiskussion-wehrhafte-demokratie-schwachstellen-in-der-justiz-und-schutz-der-rechtsstaatlichkeit/
LOCATION:Aula\, Löwengebäude\, Universitätsplatz 11\, Halle (Saale)\, 06108
END:VEVENT
END:VCALENDAR